BEGIN:VCALENDAR
VERSION:2.0
PRODID:spatie/icalendar-generator
NAME:DJ Live Act - Dariah
X-WR-CALNAME:DJ Live Act - Dariah
BEGIN:VEVENT
UID:event_2381@jncquoi.com
DTSTAMP:20260425T030426Z
SUMMARY:DJ Live Act - Dariah
DESCRIPTION:Dariah é uma DJ ucraniana radicada em Lisboa\, conhecida pelos
  seus sets focados no groove\, com base no Minimal e no Tech House\, aos q
 uais acrescenta uma identidade própria inspirada no Indie Dance. As suas 
 atuações destacam-se por transições em camadas e pela integração de 
 elementos sonoros adicionais\, o que lhe permite construir um som mais dis
 tintivo e em constante evolução. Mais do que simplesmente misturar faixa
 s\, Dariah transforma-as ativamente\, criando profundidade\, tensão e mov
 imento...\n\nhttps://www.google.com/maps/search/?api=1&query=JNcQUOI+JNcQU
 OI+Club&query_place_id=ChIJbeoKfIIzGQ0R9xAksm9Xpo4\n\n+351 210 513 010\n\n
 info@jncquoiclub.com
URL:https://www.jncquoi.com/pt/whats-on/private/dj-live-act-dariah/2381/
DTSTART:20260523T000000
BEGIN:VALARM
ACTION:DISPLAY
TRIGGER:-PT60M
END:VALARM
END:VEVENT
END:VCALENDAR