BEGIN:VCALENDAR
VERSION:2.0
PRODID:spatie/icalendar-generator
NAME:JNcQUOI: Da Origem ao Futuro - Propósito\, Visão e Estratégia
X-WR-CALNAME:JNcQUOI: Da Origem ao Futuro - Propósito\, Visão e Estratég
 ia
BEGIN:VEVENT
UID:event_2380@jncquoi.com
DTSTAMP:20260425T031827Z
SUMMARY:JNcQUOI: Da Origem ao Futuro - Propósito\, Visão e Estratégia
DESCRIPTION:Cada ideia nasce de um propósito\, cada conquista começa com 
 uma visão e\, cada passo rumo ao futuro constrói-se com coragem\, inova
 ção e espírito coletivo e de comunidade. Neste encontro\, revisitaremo
 s a origem da marca JNcQUOI\, celebramos os valores que o tornaram único 
 e projectamos\, com confiança\, o futuro que ainda está por escrever. Al
 inhar sonhos com estratégia\, reforçar a identidade que nos distingue e 
 imaginar\, juntos\, o próximo capítulo desta história.\n\nhttps://www.g
 oogle.com/maps/search/?api=1&query=JNcQUOI+JNcQUOI+Club&query_place_id=ChI
 JbeoKfIIzGQ0R9xAksm9Xpo4\n\n+351 210 513 010\n\ninfo@jncquoiclub.com
URL:https://www.jncquoi.com/pt/whats-on/private/jncquoi-da-origem-ao-futuro
 -proposito-visao-e-estrategia/2380/
DTSTART:20260527T183000
BEGIN:VALARM
ACTION:DISPLAY
TRIGGER:-PT60M
END:VALARM
END:VEVENT
END:VCALENDAR