BEGIN:VCALENDAR
VERSION:2.0
PRODID:spatie/icalendar-generator
NAME:DJ Live Act - Dr. Izzo
X-WR-CALNAME:DJ Live Act - Dr. Izzo
BEGIN:VEVENT
UID:event_2379@jncquoi.com
DTSTAMP:20260425T040348Z
SUMMARY:DJ Live Act - Dr. Izzo
DESCRIPTION:Persistente e focado\, Doctor Izzo procura as faixas e técnica
 s certas para criar vibrações intensas e memoráveis. Apaixonado pela ar
 te do DJing\, coloca energia\, sentimento e criatividade em cada atuação
 . Influenciado por nomes como Black Coffee\, Dennis Ferrer\, Dennis Cruz 
 e DJ Chus\, desenvolve um conceito musical que leva o público a experiên
 cias profundas\, espirituais e envolventes.\n\nhttps://www.google.com/maps
 /search/?api=1&query=JNcQUOI+JNcQUOI+Club&query_place_id=ChIJbeoKfIIzGQ0R9
 xAksm9Xpo4\n\n+351 210 513 010\n\ninfo@jncquoiclub.com
URL:https://www.jncquoi.com/pt/whats-on/private/dj-live-act-dr-izzo/2379/
DTSTART:20260521T230000
BEGIN:VALARM
ACTION:DISPLAY
TRIGGER:-PT60M
END:VALARM
END:VEVENT
END:VCALENDAR