BEGIN:VCALENDAR
VERSION:2.0
PRODID:spatie/icalendar-generator
NAME:Jantar-Concerto Rodrigo d'Orey
X-WR-CALNAME:Jantar-Concerto Rodrigo d'Orey
BEGIN:VEVENT
UID:event_2369@jncquoi.com
DTSTAMP:20260425T031633Z
SUMMARY:Jantar-Concerto Rodrigo d'Orey
DESCRIPTION:Rodrigo d’Orey\, músico\, cantor e DJ\, conta com mais de 25
  anos de carreira no panorama musical português.    Em paralelo\, desta
 cou-se na televisão ao vencer o programa The Voice Gerações\, em dupla
  com a cantora Teresa de Castro. A sua participação no universo do The 
 Voice Portugal reforçou ainda mais a sua visibilidade junto do público.
   Com uma forte sensibilidade musical e vasto repertório transversal a v
 árias gerações\, Rodrigo d’ Orey adapta-se a diferentes públicos e 
 promete um...\n\nhttps://www.google.com/maps/search/?api=1&query=JNcQUOI+J
 NcQUOI+Club&query_place_id=ChIJbeoKfIIzGQ0R9xAksm9Xpo4\n\n+351 210 513 010
 \n\ninfo@jncquoiclub.com
URL:https://www.jncquoi.com/pt/whats-on/private/jantar-concerto-rodrigo-dor
 ey/2369/
DTSTART:20260529T000000
BEGIN:VALARM
ACTION:DISPLAY
TRIGGER:-PT60M
END:VALARM
END:VEVENT
END:VCALENDAR