BEGIN:VCALENDAR
VERSION:2.0
PRODID:spatie/icalendar-generator
NAME:Lunch & Talk “Entre o olhar a criação”
X-WR-CALNAME:Lunch & Talk “Entre o olhar a criação”
BEGIN:VEVENT
UID:event_2368@jncquoi.com
DTSTAMP:20260425T034817Z
SUMMARY:Lunch & Talk “Entre o olhar a criação”
DESCRIPTION:Entre o olhar e a criação\, nasce uma conversa que revela o q
 ue normalmente fica invisível. Esta talk propõe um encontro dinâmico so
 bre processo artístico\, curadoria e coleção\, onde ideias se constroem
  em diálogo e diferentes perspetivas se cruzam. Partindo da experiência 
 da artista\, a conversa explora como uma obra ganha sentido ao longo do te
 mpo\, dentro e fora do atelier. Um momento de partilha\, reflexão e desco
 berta para todos os que se interessam pelo universo da arte contemporânea
 .\n\nhttps://www.google.com/maps/search/?api=1&query=JNcQUOI+JNcQUOI+Club&
 query_place_id=ChIJbeoKfIIzGQ0R9xAksm9Xpo4\n\n+351 210 513 010\n\ninfo@jnc
 quoiclub.com
URL:https://www.jncquoi.com/pt/whats-on/private/lunch-talk-entre-o-olhar-a-
 criacao/2368/
DTSTART:20260526T000000
BEGIN:VALARM
ACTION:DISPLAY
TRIGGER:-PT60M
END:VALARM
END:VEVENT
END:VCALENDAR