BEGIN:VCALENDAR
VERSION:2.0
PRODID:spatie/icalendar-generator
NAME:Jantar-Espetáculo Luana do Bem
X-WR-CALNAME:Jantar-Espetáculo Luana do Bem
BEGIN:VEVENT
UID:event_2367@jncquoi.com
DTSTAMP:20260425T032215Z
SUMMARY:Jantar-Espetáculo Luana do Bem
DESCRIPTION:Luana do Bem é uma humorista portuguesa que começou a sua car
 reira em 2018 e desde então tem estado presente nos mais diversos meios: 
 Relatório DB\, no YouTube\, Curto Circuito na Sic radical\, rádio\, ante
 na 3\, e festivais de verão.\nEm 2024 estreou o videocast Palácio da Aju
 da\, ao lado dos humoristas Tiago Almeida e Guilherme Ludovice\, um projet
 o onde os três se desafiam a ser melhores pessoas.\nFaz parte do painel d
 o programa IRRITAÇÕES na sic radical e o seu primeiro solo Crente\, lan
 çado...\n\nhttps://www.google.com/maps/search/?api=1&query=JNcQUOI+JNcQUO
 I+Club&query_place_id=ChIJbeoKfIIzGQ0R9xAksm9Xpo4\n\n+351 210 513 010\n\ni
 nfo@jncquoiclub.com
URL:https://www.jncquoi.com/pt/whats-on/private/jantar-espetaculo-luana-do-
 bem/2367/
DTSTART:20260522T000000
BEGIN:VALARM
ACTION:DISPLAY
TRIGGER:-PT60M
END:VALARM
END:VEVENT
END:VCALENDAR