BEGIN:VCALENDAR
VERSION:2.0
PRODID:spatie/icalendar-generator
NAME:Almoço Temático: Feijoada à Brasileira
X-WR-CALNAME:Almoço Temático: Feijoada à Brasileira
BEGIN:VEVENT
UID:event_2360@jncquoi.com
DTSTAMP:20260425T025655Z
SUMMARY:Almoço Temático: Feijoada à Brasileira
DESCRIPTION:Celebre connosco uma explosão de sabores e tradições brasile
 iras neste almoço temático de feijoada! Junte-se a nós para uma experi
 ência gastronômica única\, onde o aroma irresistível do feijão preto\
 , acompanhado de carnes suculentas\, enche o ambiente. Delicie-se com a au
 tenticidade desse prato emblemático\, preparado com cuidado e paixão.\n\
 n
URL:https://www.jncquoi.com/pt/whats-on/private/almoco-tematico-feijoada-a-
 brasileira/2360/
DTSTART:20260516T120000
BEGIN:VALARM
ACTION:DISPLAY
TRIGGER:-PT60M
END:VALARM
END:VEVENT
END:VCALENDAR