BEGIN:VCALENDAR
VERSION:2.0
PRODID:spatie/icalendar-generator
NAME:Jantar-Concerto - Elas e o Jazz na Disco
X-WR-CALNAME:Jantar-Concerto - Elas e o Jazz na Disco
BEGIN:VEVENT
UID:event_2359@jncquoi.com
DTSTAMP:20260425T033906Z
SUMMARY:Jantar-Concerto - Elas e o Jazz na Disco
DESCRIPTION:Elas e o Jazz mergulham no universo da música disco dos anos 7
 0.\nMariana Norton\, Joana Machado e Marta Hugon recriam harmonias vocais 
 marcantes e dão nova vida a alguns dos temas mais icónicos da era disco.
 \n\n
URL:https://www.jncquoi.com/pt/whats-on/private/jantar-concerto-elas-e-o-ja
 zz-na-disco/2359/
DTSTART:20260515T230000
BEGIN:VALARM
ACTION:DISPLAY
TRIGGER:-PT60M
END:VALARM
END:VEVENT
END:VCALENDAR