BEGIN:VCALENDAR
VERSION:2.0
PRODID:spatie/icalendar-generator
NAME:Sunset Samba com O Samba é 1 Só
X-WR-CALNAME:Sunset Samba com O Samba é 1 Só
BEGIN:VEVENT
UID:event_2353@jncquoi.com
DTSTAMP:20260425T031322Z
SUMMARY:Sunset Samba com O Samba é 1 Só
DESCRIPTION:Celebrar o verão e os finais de tarde inesquecíveis no seu Di
 scoBar com a alegria de uma roda de samba que traz ao clube todo o ritmo d
 o Brasil.\n\n
URL:https://www.jncquoi.com/pt/whats-on/private/sunset-samba-com-o-samba-e-
 1-so/2353/
DTSTART:20260528T180000
BEGIN:VALARM
ACTION:DISPLAY
TRIGGER:-PT60M
END:VALARM
END:VEVENT
END:VCALENDAR