BEGIN:VCALENDAR
VERSION:2.0
PRODID:spatie/icalendar-generator
NAME:Meet the Members Dinner - Junior Members
X-WR-CALNAME:Meet the Members Dinner - Junior Members
BEGIN:VEVENT
UID:event_2346@jncquoi.com
DTSTAMP:20260424T044936Z
SUMMARY:Meet the Members Dinner - Junior Members
DESCRIPTION:O   Meet the Members Dinner – Junior Members   é um evento p
 ensado para promover a integração\, o networking e a troca de experiênc
 ias entre a nossa comunidade mais jovem\, que cresce a cada dia.\nNum ambi
 ente descontraído e acolhedor\, esta é a oportunidade ideal para conhece
 r melhor outros membros\, fortalecer conexões e criar novos laços dentro
  da comunidade.\nMais do que um simples jantar\, o evento incentiva a part
 icipação ativa\, o diálogo e o sentimento de pertença. Uma momento par
 a conversa...\n\n
URL:https://www.jncquoi.com/pt/whats-on/private/meet-the-members-dinner-jun
 ior-members/2346/
DTSTART:20260424T203000
BEGIN:VALARM
ACTION:DISPLAY
TRIGGER:-PT60M
END:VALARM
END:VEVENT
END:VCALENDAR