BEGIN:VCALENDAR
VERSION:2.0
PRODID:spatie/icalendar-generator
NAME:Almoço Temático Eisbein
X-WR-CALNAME:Almoço Temático Eisbein
BEGIN:VEVENT
UID:event_2287@jncquoi.com
DTSTAMP:20260420T104456Z
SUMMARY:Almoço Temático Eisbein
DESCRIPTION:O eisbein também conhecido como joelho de porco\, muito apreci
 ado pelo seu sabor e textura\, é um prato tradicional e\, talvez\, o mais
  icónico da gastronomia alemã. Cozinhado no forno\, acompanhado pelo cl
 ássico “sauerkraut” – chucrute - salsicha Thuringer e salsicha de V
 iena fumada. Delicie-se com esta iguaria alemã no conforto do seu club! 
 MENU\n\nhttps://www.google.com/maps/search/?api=1&query=JNcQUOI+JNcQUOI+C
 lub&query_place_id=ChIJbeoKfIIzGQ0R9xAksm9Xpo4\n\n+351 210 513 010\n\ninfo
 @jncquoiclub.com
URL:https://www.jncquoi.com/pt/whats-on/private/almoco-tematico-eisbein/228
 7/
DTSTART:20260306T120000
BEGIN:VALARM
ACTION:DISPLAY
TRIGGER:-PT60M
END:VALARM
END:VEVENT
END:VCALENDAR