BEGIN:VCALENDAR
VERSION:2.0
PRODID:spatie/icalendar-generator
NAME:Consultas de Numerologia com José Federico Raffo
X-WR-CALNAME:Consultas de Numerologia com José Federico Raffo
BEGIN:VEVENT
UID:event_2048@jncquoi.com
DTSTAMP:20260424T073603Z
SUMMARY:Consultas de Numerologia com José Federico Raffo
DESCRIPTION:A análise numerólogica oferece autoconhecimento\, insights so
 bre o propósito de vida e orientações para lidar com desafios e oportun
 idades.  Para marcação\, contacte José Federico Raffo directamente at
 ravés de:   josefedericoraffo@hotmail.com  / +39 346 401 4233\n\nhttps:/
 /www.google.com/maps/search/?api=1&query=JNcQUOI+JNcQUOI+Club&query_place_
 id=ChIJbeoKfIIzGQ0R9xAksm9Xpo4\n\n+351 210 513 010\n\ninfo@jncquoiclub.com
URL:https://www.jncquoi.com/pt/whats-on/private/consultas-de-numerologia-co
 m-jose-federico-raffo/2048/
DTSTART:20250725T180000
BEGIN:VALARM
ACTION:DISPLAY
TRIGGER:-PT60M
END:VALARM
END:VEVENT
END:VCALENDAR