BEGIN:VCALENDAR
VERSION:2.0
PRODID:spatie/icalendar-generator
NAME:Concerto - OS PHAROL
X-WR-CALNAME:Concerto - OS PHAROL
BEGIN:VEVENT
UID:event_1889@jncquoi.com
DTSTAMP:20260425T190636Z
SUMMARY:Concerto - OS PHAROL
DESCRIPTION:Os Pharol são um quarteto de Rock Alternativo com influências
  do Pop-Rock\, Indie-Folk\, Funk\, Jazz e Hip Hop. A banda foi formada em
  2018 e conta com o Diogo Pedro (teclados e trompete)\, Churky (guitarra)\
 , Paulo Oliveira (no baixo) e Vitor Copa (bateria). Juntos\, unem as suas
  habilidades e influências para criar uma experiência sonora única. Ess
 a combinação eclética de géneros resulta num som dinâmico e envolvent
 e que cativa os ouvintes. A banda tem como objetivo reinventar e reinterpr
 et...\n\nhttps://www.google.com/maps/search/?api=1&query=JNcQUOI+JNcQUOI+C
 lub&query_place_id=ChIJbeoKfIIzGQ0R9xAksm9Xpo4\n\n+351 210 513 010\n\ninfo
 @jncquoiclub.com
URL:https://www.jncquoi.com/pt/whats-on/private/concerto-os-pharol/1889/
DTSTART:20250124T230000
BEGIN:VALARM
ACTION:DISPLAY
TRIGGER:-PT60M
END:VALARM
END:VEVENT
END:VCALENDAR