BEGIN:VCALENDAR
VERSION:2.0
PRODID:spatie/icalendar-generator
NAME:Almoço Temático Trufa d'Alba 
X-WR-CALNAME:Almoço Temático Trufa d'Alba 
BEGIN:VEVENT
UID:event_1838@jncquoi.com
DTSTAMP:20260422T035445Z
SUMMARY:Almoço Temático Trufa d'Alba 
DESCRIPTION:Delicie-se com uma experiência gastronómica inesquecível cel
 ebrando a premiada Trufa d' Alba.\n\nhttps://www.google.com/maps/search/?a
 pi=1&query=JNcQUOI+JNcQUOI+Club&query_place_id=ChIJbeoKfIIzGQ0R9xAksm9Xpo4
 \n\n+351 210 513 010\n\ninfo@jncquoiclub.com
URL:https://www.jncquoi.com/pt/whats-on/private/almoco-tematico-trufa-dalba
 /1838/
DTSTART:20241017T000000
BEGIN:VALARM
ACTION:DISPLAY
TRIGGER:-PT60M
END:VALARM
END:VEVENT
END:VCALENDAR