BEGIN:VCALENDAR
VERSION:2.0
PRODID:spatie/icalendar-generator
NAME:Sunset Samba com Samba é 1 Só
X-WR-CALNAME:Sunset Samba com Samba é 1 Só
BEGIN:VEVENT
UID:event_1704@jncquoi.com
DTSTAMP:20260423T005121Z
SUMMARY:Sunset Samba com Samba é 1 Só
DESCRIPTION:Celebrar o verão e os finais de tarde inesquecíveis no seu Di
 scoBar com a alegria de uma roda de samba que traz ao clube todo o ritmo d
 o Brasil.\n\nhttps://www.google.com/maps/search/?api=1&query=JNcQUOI+JNcQU
 OI+Club&query_place_id=ChIJbeoKfIIzGQ0R9xAksm9Xpo4\n\n+351 210 513 010\n\n
 info@jncquoiclub.com
URL:https://www.jncquoi.com/pt/whats-on/private/sunset-samba-com-samba-e-1-
 so/1704/
DTSTART:20240802T190000
BEGIN:VALARM
ACTION:DISPLAY
TRIGGER:-PT60M
END:VALARM
END:VEVENT
END:VCALENDAR