BEGIN:VCALENDAR
VERSION:2.0
PRODID:spatie/icalendar-generator
NAME:DJ Live Act - Bruna Lennon
X-WR-CALNAME:DJ Live Act - Bruna Lennon
BEGIN:VEVENT
UID:event_1550@jncquoi.com
DTSTAMP:20260424T124053Z
SUMMARY:DJ Live Act - Bruna Lennon
DESCRIPTION:Bruna Lennon é uma das   DJ’s   mais queridas das principais
  festas do Rio. Podemos dizer que quando entra na pista   é o   auge da f
 esta   e a   s  ua versatilidade adapta  -se  a qualquer tipo de público.
            Além de sempre estar presente nas notórias Arca de Noé\, 
 DDP\, Suba Jovem\, Adoro   Frozen\, Seu Vidal\, Rio   Sunset\, Festa Voa\,
  Baile do   Saddam\, Baile do Momo\,   Better  Days\, entre outras\, Bruna
  tocou em festivais como   o   Rock   the  Mountain\, Festival Auê e tamb
 ém e...\n\nhttps://www.google.com/maps/search/?api=1&query=JNcQUOI+JNcQUO
 I+Club&query_place_id=ChIJbeoKfIIzGQ0R9xAksm9Xpo4\n\n+351 210 513 010\n\ni
 nfo@jncquoiclub.com
URL:https://www.jncquoi.com/pt/whats-on/private/dj-live-act-bruna-lennon/15
 50/
DTSTART:20241121T230000
BEGIN:VALARM
ACTION:DISPLAY
TRIGGER:-PT60M
END:VALARM
END:VEVENT
END:VCALENDAR