BEGIN:VCALENDAR
VERSION:2.0
PRODID:spatie/icalendar-generator
NAME:Jantar-Concerto - Joana Lobo Anta - Quarteto
X-WR-CALNAME:Jantar-Concerto - Joana Lobo Anta - Quarteto
BEGIN:VEVENT
UID:event_1462@jncquoi.com
DTSTAMP:20260422T192140Z
SUMMARY:Jantar-Concerto - Joana Lobo Anta - Quarteto
DESCRIPTION:Joana Lobo Anta é uma talentosa e versátil artista portuguesa
 . Joana expressa-se desde os três anos de idade através do canto\, dos i
 nstrumentos musicais\, da pintura\, da dança\, da escrita\, do teatro e d
 a fotografia. Desde 2008\, já se apresentou inúmeras vezes em todo o mu
 ndo\, como em Portugal\, Ibiza\, Nova Iorque\, Bali\, Áustria\, Barcelona
 \, ​​Luanda\, Inglaterra\, Marrocos e Guatemala. A sua abordagem dest
 emida à questão feminina quase parece implicar uma noção espiritual de
  sensualidade co...\n\nhttps://www.google.com/maps/search/?api=1&query=JNc
 QUOI+JNcQUOI+Club&query_place_id=ChIJbeoKfIIzGQ0R9xAksm9Xpo4\n\n+351 210 5
 13 010\n\ninfo@jncquoiclub.com
URL:https://www.jncquoi.com/pt/whats-on/private/jantar-concerto-joana-lobo-
 anta-quarteto/1462/
DTSTART:20231222T230000
BEGIN:VALARM
ACTION:DISPLAY
TRIGGER:-PT60M
END:VALARM
END:VEVENT
END:VCALENDAR