BEGIN:VCALENDAR
VERSION:2.0
PRODID:spatie/icalendar-generator
NAME:Bollywood Party
X-WR-CALNAME:Bollywood Party
BEGIN:VEVENT
UID:event_1295@jncquoi.com
DTSTAMP:20260424T175336Z
SUMMARY:Bollywood Party
DESCRIPTION:No dia 20 de Maio em 1498\, o explorador português\, Vasco da 
 Gama\, descobriu o caminho marítimo para a India. Vamos celebrar! A Índ
 ia é um país colorido. Da comida ao vestuário\, a cor abunda e tem um p
 apel muito importante\, quer religioso quer cultural.  Muita cor\, os ve
 rdadeiros sabores indianos e muita música vão transportá-lo directament
 e para o incrível universo Bollywood!\n\nhttps://www.google.com/maps/sear
 ch/?api=1&query=JNcQUOI+JNcQUOI+Club&query_place_id=ChIJbeoKfIIzGQ0R9xAksm
 9Xpo4\n\n+351 210 513 010\n\ninfo@jncquoiclub.com
URL:https://www.jncquoi.com/pt/whats-on/private/bollywood-party/1295/
DTSTART:20230520T000000
BEGIN:VALARM
ACTION:DISPLAY
TRIGGER:-PT60M
END:VALARM
END:VEVENT
END:VCALENDAR