BEGIN:VCALENDAR
VERSION:2.0
PRODID:spatie/icalendar-generator
NAME:KARAOKE NIGHT
X-WR-CALNAME:KARAOKE NIGHT
BEGIN:VEVENT
UID:event_1175@jncquoi.com
DTSTAMP:20260420T044738Z
SUMMARY:KARAOKE NIGHT
DESCRIPTION:Se ainda não conseguiu ter os seus cinco minutos de fama na m
 úsica\,  no seu clube não queremos que nada lhe falte!  Preparámos pa
 ra todos os  “cantores de duche”  uma divertida noite de Karaoke! Das
  grandes baladas às canções pop\, dos grandes hits nacionais ao “rock
  da pesada”\, no dia 20 o microfone é todo seu! Pode começar a aquecer
  a voz e ensaiar a sua música preferida para poder brilhar no seu Discoba
 r!\n\nhttps://www.google.com/maps/search/?api=1&query=JNcQUOI+JNcQUOI+Club
 &query_place_id=ChIJbeoKfIIzGQ0R9xAksm9Xpo4\n\n+351 210 513 010\n\ninfo@jn
 cquoiclub.com
URL:https://www.jncquoi.com/pt/whats-on/private/karaoke-night/1175/
DTSTART:20221220T000000
BEGIN:VALARM
ACTION:DISPLAY
TRIGGER:-PT60M
END:VALARM
END:VEVENT
END:VCALENDAR