BEGIN:VCALENDAR
VERSION:2.0
PRODID:spatie/icalendar-generator
NAME:JNcQUOI: From Origin to Future - Purpose\, Vision and Strategy
X-WR-CALNAME:JNcQUOI: From Origin to Future - Purpose\, Vision and Strategy
BEGIN:VEVENT
UID:event_2380@jncquoi.com
DTSTAMP:20260425T013113Z
SUMMARY:JNcQUOI: From Origin to Future - Purpose\, Vision and Strategy
DESCRIPTION:Every idea starts with purpose\, every achievement is driven by
  vision\, and every step into the future is shaped by courage\, innovation
 \, and a strong sense of community. In this gathering\, we revisit the or
 igins of the JNcQUOI brand\, celebrate the values that have made it unique
 \, and look ahead with confidence to the future still to be written. It’
 s about aligning ambition with strategy\, strengthening the identity that 
 sets us apart\, and imagining together the next chapter of this journey.\n
 \nhttps://www.google.com/maps/search/?api=1&query=JNcQUOI+JNcQUOI+Club&que
 ry_place_id=ChIJbeoKfIIzGQ0R9xAksm9Xpo4\n\n+351 210 513 010\n\ninfo@jncquo
 iclub.com
URL:https://www.jncquoi.com/en/whats-on/private/jncquoi-from-origin-to-futu
 re-purpose-vision-and-strategy/2380/
DTSTART:20260527T183000
BEGIN:VALARM
ACTION:DISPLAY
TRIGGER:-PT60M
END:VALARM
END:VEVENT
END:VCALENDAR