BEGIN:VCALENDAR
VERSION:2.0
PRODID:spatie/icalendar-generator
NAME:DJ Live Act - Lipy Adler
X-WR-CALNAME:DJ Live Act - Lipy Adler
BEGIN:VEVENT
UID:event_2376@jncquoi.com
DTSTAMP:20260425T013307Z
SUMMARY:DJ Live Act - Lipy Adler
DESCRIPTION:Lipy Adler is a Brazilian DJ\, producer\, and actor rising in t
 he Afro House scene. Performing at top clubs in Brazil and events like Pik
 nic\, he blends Latin music\, Brazilian influences\, and timeless classics
 .\n\nhttps://www.google.com/maps/search/?api=1&query=JNcQUOI+JNcQUOI+Club&
 query_place_id=ChIJbeoKfIIzGQ0R9xAksm9Xpo4\n\n+351 210 513 010\n\ninfo@jnc
 quoiclub.com
URL:https://www.jncquoi.com/en/whats-on/private/dj-live-act-lipy-adler/2376
 /
DTSTART:20260530T000000
BEGIN:VALARM
ACTION:DISPLAY
TRIGGER:-PT60M
END:VALARM
END:VEVENT
END:VCALENDAR