BEGIN:VCALENDAR
VERSION:2.0
PRODID:spatie/icalendar-generator
NAME:DJ Live Act - Maveri
X-WR-CALNAME:DJ Live Act - Maveri
BEGIN:VEVENT
UID:event_2375@jncquoi.com
DTSTAMP:20260425T021525Z
SUMMARY:DJ Live Act - Maveri
DESCRIPTION:Focused essentially in electronic and disco\, minimal and soulf
 ul influences\, it provides an eclectic and lively style. She is also char
 acterized by her feminine and elegant image and her captivating personalit
 y. She is currently a DJ in exclusive and sophisticated meeting points in 
 Lisbon and invited by some fashion brands in the luxury segment. Maveri s
 tands out for her careful curation\, attentiveness to new trends and music
 al productions\, seeking to offer up-to-date selection\, innovating...\n\n
URL:https://www.jncquoi.com/en/whats-on/private/dj-live-act-maveri/2375/
DTSTART:20260528T230000
BEGIN:VALARM
ACTION:DISPLAY
TRIGGER:-PT60M
END:VALARM
END:VEVENT
END:VCALENDAR