BEGIN:VCALENDAR
VERSION:2.0
PRODID:spatie/icalendar-generator
NAME:DJ Live Act - Francisco Maria
X-WR-CALNAME:DJ Live Act - Francisco Maria
BEGIN:VEVENT
UID:event_2373@jncquoi.com
DTSTAMP:20260425T015205Z
SUMMARY:DJ Live Act - Francisco Maria
DESCRIPTION:Francisco Maria began his DJ career at the end of his 16th birt
 hday. For a decade he took over the nights at various clubs in Lisbon and 
 the Algarve. He has always had a special taste for Soulful House and Deep 
 House\, however he never restricted himself to just these two musical styl
 es\, he always liked to explore\, showing some versatility in some of his 
 performances. Francisco is a pleasure to light up any dance floor with his
  good vibes and energy\, always ready for a good party.\n\nhttps://www.goo
 gle.com/maps/search/?api=1&query=JNcQUOI+JNcQUOI+Club&query_place_id=ChIJb
 eoKfIIzGQ0R9xAksm9Xpo4\n\n+351 210 513 010\n\ninfo@jncquoiclub.com
URL:https://www.jncquoi.com/en/whats-on/private/dj-live-act-francisco-maria
 /2373/
DTSTART:20260516T000000
BEGIN:VALARM
ACTION:DISPLAY
TRIGGER:-PT60M
END:VALARM
END:VEVENT
END:VCALENDAR