BEGIN:VCALENDAR
VERSION:2.0
PRODID:spatie/icalendar-generator
NAME:Dinner-Concert Rodrigo d'Orey
X-WR-CALNAME:Dinner-Concert Rodrigo d'Orey
BEGIN:VEVENT
UID:event_2369@jncquoi.com
DTSTAMP:20260425T013609Z
SUMMARY:Dinner-Concert Rodrigo d'Orey
DESCRIPTION:Rodrigo d’Orey\, a musician\, singer\, and DJ\, has over 25 y
 ears of experience in the Portuguese music scene.  He also gained recogni
 tion on television after winning  The Voice Gerações  alongside singer
  Teresa de Castro. His participation in the broader  The Voice Portugal 
  franchise further increased his visibility with the public.  With a str
 ong musical sensibility and a wide-ranging repertoire that spans multiple 
 generations\, Rodrigo d’Orey adapts easily to different audiences and pr
 omises...\n\nhttps://www.google.com/maps/search/?api=1&query=JNcQUOI+JNcQU
 OI+Club&query_place_id=ChIJbeoKfIIzGQ0R9xAksm9Xpo4\n\n+351 210 513 010\n\n
 info@jncquoiclub.com
URL:https://www.jncquoi.com/en/whats-on/private/dinner-concert-rodrigo-dore
 y/2369/
DTSTART:20260529T000000
BEGIN:VALARM
ACTION:DISPLAY
TRIGGER:-PT60M
END:VALARM
END:VEVENT
END:VCALENDAR