BEGIN:VCALENDAR
VERSION:2.0
PRODID:spatie/icalendar-generator
NAME:Lunch & Talk “Between seeing and creating”
X-WR-CALNAME:Lunch & Talk “Between seeing and creating”
BEGIN:VEVENT
UID:event_2368@jncquoi.com
DTSTAMP:20260425T020107Z
SUMMARY:Lunch & Talk “Between seeing and creating”
DESCRIPTION:Between seeing and making\, a conversation unfolds that brings 
 to light what often remains unseen. This talk invites a dynamic exchange a
 round artistic process\, curating\, and collecting\, where ideas take shap
 e through dialogue and multiple perspectives intersect. Drawing from the a
 rtist’s experience\, it explores how an artwork acquires meaning over ti
 me\, both within and beyond the studio. A moment of reflection and discove
 ry for those interested in the world of contemporary art.\n\nhttps://www.g
 oogle.com/maps/search/?api=1&query=JNcQUOI+JNcQUOI+Club&query_place_id=ChI
 JbeoKfIIzGQ0R9xAksm9Xpo4\n\n+351 210 513 010\n\ninfo@jncquoiclub.com
URL:https://www.jncquoi.com/en/whats-on/private/lunch-talk-between-seeing-a
 nd-creating/2368/
DTSTART:20260526T000000
BEGIN:VALARM
ACTION:DISPLAY
TRIGGER:-PT60M
END:VALARM
END:VEVENT
END:VCALENDAR