BEGIN:VCALENDAR
VERSION:2.0
PRODID:spatie/icalendar-generator
NAME:Dinner-Show Luana do Bem
X-WR-CALNAME:Dinner-Show Luana do Bem
BEGIN:VEVENT
UID:event_2367@jncquoi.com
DTSTAMP:20260425T012749Z
SUMMARY:Dinner-Show Luana do Bem
DESCRIPTION:Luana do Bem is a Portuguese comedian who began her career in 2
 018 and has since worked across a wide range of platforms\, including Rela
 tório DB on YouTube\, Curto Circuito on SIC Radical\, radio (Antena 3)\, 
 and major summer festivals.\nIn 2024\, she launched the videocast Palácio
  da Ajuda alongside fellow comedians Tiago Almeida and Guilherme Ludovice\
 , a project where the three challenge each other to become better people.\
 nShe is also a panelist on the show Irritações on SIC Radical\, and her 
 deb...\n\nhttps://www.google.com/maps/search/?api=1&query=JNcQUOI+JNcQUOI+
 Club&query_place_id=ChIJbeoKfIIzGQ0R9xAksm9Xpo4\n\n+351 210 513 010\n\ninf
 o@jncquoiclub.com
URL:https://www.jncquoi.com/en/whats-on/private/dinner-show-luana-do-bem/23
 67/
DTSTART:20260522T000000
BEGIN:VALARM
ACTION:DISPLAY
TRIGGER:-PT60M
END:VALARM
END:VEVENT
END:VCALENDAR