BEGIN:VCALENDAR
VERSION:2.0
PRODID:spatie/icalendar-generator
NAME:DJ Live Act - Gabriel Nazaré
X-WR-CALNAME:DJ Live Act - Gabriel Nazaré
BEGIN:VEVENT
UID:event_2362@jncquoi.com
DTSTAMP:20260425T012749Z
SUMMARY:DJ Live Act - Gabriel Nazaré
DESCRIPTION:Gabriel Nazaré is a DJ with over 10 years of experience that h
 as established himself\, during the last year\, as one of the new names on
  the house music scene in Lisbon. Particullary South-America inspired\, Ga
 briel's music ranges from groovie rhythms to more melodic house music. Dur
 ing his sets\, Gabriel likes to combine references from the origins of hou
 se music such as Bellaire and The Martinez Brothers to more avant-garde au
 thors such as Pawsa and Mochakk\, giving a lot of diversity to his s...\n
 \nhttps://www.google.com/maps/search/?api=1&query=JNcQUOI+JNcQUOI+Club&que
 ry_place_id=ChIJbeoKfIIzGQ0R9xAksm9Xpo4\n\n+351 210 513 010\n\ninfo@jncquo
 iclub.com
URL:https://www.jncquoi.com/en/whats-on/private/dj-live-act-gabriel-nazare/
 2362/
DTSTART:20260524T000000
BEGIN:VALARM
ACTION:DISPLAY
TRIGGER:-PT60M
END:VALARM
END:VEVENT
END:VCALENDAR