BEGIN:VCALENDAR
VERSION:2.0
PRODID:spatie/icalendar-generator
NAME:Wine Tasting: Vertical Quinta das Carvalhas
X-WR-CALNAME:Wine Tasting: Vertical Quinta das Carvalhas
BEGIN:VEVENT
UID:event_2361@jncquoi.com
DTSTAMP:20260425T013224Z
SUMMARY:Wine Tasting: Vertical Quinta das Carvalhas
DESCRIPTION:Quinta das Carvalhas is located in the heart of the Douro Valle
 y\, one of Portugal’s most iconic wine regions and a UNESCO World Herit
 age Site. With a privileged position on the left bank of the Douro River\
 , the estate stands out for its impressive terraced vineyards and\nthe div
 ersity of altitudes and exposures\, which contribute to the complexity and
  authenticity of its wines. Renowned for producing high-quality Port and
  Douro wines\, Quinta das Carvalhas combines tradition and innovation\, e
 xplo...\n\nhttps://www.google.com/maps/search/?api=1&query=JNcQUOI+JNcQUOI
 +Club&query_place_id=ChIJbeoKfIIzGQ0R9xAksm9Xpo4\n\n+351 210 513 010\n\nin
 fo@jncquoiclub.com
URL:https://www.jncquoi.com/en/whats-on/private/wine-tasting-vertical-quint
 a-das-carvalhas/2361/
DTSTART:20260520T000000
BEGIN:VALARM
ACTION:DISPLAY
TRIGGER:-PT60M
END:VALARM
END:VEVENT
END:VCALENDAR