BEGIN:VCALENDAR
VERSION:2.0
PRODID:spatie/icalendar-generator
NAME:Themed Lunch: Brazilian Feijoada
X-WR-CALNAME:Themed Lunch: Brazilian Feijoada
BEGIN:VEVENT
UID:event_2360@jncquoi.com
DTSTAMP:20260425T010538Z
SUMMARY:Themed Lunch: Brazilian Feijoada
DESCRIPTION:Celebrate with us an explosion of Brazilian flavors and traditi
 ons at this Feijoada themed lunch! Join us for a unique gastronomic experi
 ence\, where the irresistible aroma of black beans\, accompanied by succul
 ent meats\, fill the atmosphere. Delight in the authenticity of this emble
 matic dish\, prepared with care and passion.\n\n
URL:https://www.jncquoi.com/en/whats-on/private/themed-lunch-brazilian-feij
 oada/2360/
DTSTART:20260516T120000
BEGIN:VALARM
ACTION:DISPLAY
TRIGGER:-PT60M
END:VALARM
END:VEVENT
END:VCALENDAR