BEGIN:VCALENDAR
VERSION:2.0
PRODID:spatie/icalendar-generator
NAME:Dinner-Concert - “Elas e o Jazz\" at the Disco
X-WR-CALNAME:Dinner-Concert - “Elas e o Jazz\" at the Disco
BEGIN:VEVENT
UID:event_2359@jncquoi.com
DTSTAMP:20260425T015119Z
SUMMARY:Dinner-Concert - “Elas e o Jazz\" at the Disco
DESCRIPTION:\"Elas e o Jazz\" dive into the world of 1970s disco music.\nMa
 riana Norton\, Joana Machado\, and Marta Hugon recreate striking vocal har
 monies and breathe new life into some of the most iconic songs of the disc
 o era.\n\n
URL:https://www.jncquoi.com/en/whats-on/private/dinner-concert-elas-e-o-jaz
 z-at-the-disco/2359/
DTSTART:20260515T230000
BEGIN:VALARM
ACTION:DISPLAY
TRIGGER:-PT60M
END:VALARM
END:VEVENT
END:VCALENDAR