BEGIN:VCALENDAR
VERSION:2.0
PRODID:spatie/icalendar-generator
NAME:Sunset Samba with O Samba é 1 Só
X-WR-CALNAME:Sunset Samba with O Samba é 1 Só
BEGIN:VEVENT
UID:event_2353@jncquoi.com
DTSTAMP:20260425T012335Z
SUMMARY:Sunset Samba with O Samba é 1 Só
DESCRIPTION:Celebrate summer and amazings sunsets at your DiscoBar with the
  joy of a  “roda de samba”  that brings the incredible rhythm of Brazi
 l to the club.\n\n
URL:https://www.jncquoi.com/en/whats-on/private/sunset-samba-with-o-samba-e
 -1-so/2353/
DTSTART:20260528T180000
BEGIN:VALARM
ACTION:DISPLAY
TRIGGER:-PT60M
END:VALARM
END:VEVENT
END:VCALENDAR