BEGIN:VCALENDAR
VERSION:2.0
PRODID:spatie/icalendar-generator
NAME:Numerology Appointments with José Federico Raffo
X-WR-CALNAME:Numerology Appointments with José Federico Raffo
BEGIN:VEVENT
UID:event_2048@jncquoi.com
DTSTAMP:20260424T045038Z
SUMMARY:Numerology Appointments with José Federico Raffo
DESCRIPTION:A numerology analysis offers self-knowledge\, insights into lif
 e purpose and guidance for dealing with challenges and opportunities. For
  appointments\, please contact José Federico Raffo directly:  josefederic
 oraffo@hotmail.com  / +39 346 401 4233\n\nhttps://www.google.com/maps/sear
 ch/?api=1&query=JNcQUOI+JNcQUOI+Club&query_place_id=ChIJbeoKfIIzGQ0R9xAksm
 9Xpo4\n\n+351 210 513 010\n\ninfo@jncquoiclub.com
URL:https://www.jncquoi.com/en/whats-on/private/numerology-appointments-wit
 h-jose-federico-raffo/2048/
DTSTART:20250725T180000
BEGIN:VALARM
ACTION:DISPLAY
TRIGGER:-PT60M
END:VALARM
END:VEVENT
END:VCALENDAR