BEGIN:VCALENDAR
VERSION:2.0
PRODID:spatie/icalendar-generator
NAME:Concert - OS PHAROL
X-WR-CALNAME:Concert - OS PHAROL
BEGIN:VEVENT
UID:event_1889@jncquoi.com
DTSTAMP:20260425T171111Z
SUMMARY:Concert - OS PHAROL
DESCRIPTION:Pharol are an Alternative Rock quartet with influences from Pop
 -Rock\, Indie-Folk\, Funk\, Jazz and Hip Hop. The band was formed in 2018
  and includes Diogo Pedro (keyboards and trumpet)\, Churky (guitar)\, Paul
 o Oliveira (bass) and Vitor Copa (drums). Together\, they combine their s
 kills and influences to create a unique sound experience. This eclectic co
 mbination of genres results in a dynamic and engaging sound that captivate
 s listeners. The band aims to reinvent and reinterpret songs\, bringing...
 \n\nhttps://www.google.com/maps/search/?api=1&query=JNcQUOI+JNcQUOI+Club&q
 uery_place_id=ChIJbeoKfIIzGQ0R9xAksm9Xpo4\n\n+351 210 513 010\n\ninfo@jncq
 uoiclub.com
URL:https://www.jncquoi.com/en/whats-on/private/concert-os-pharol/1889/
DTSTART:20250124T230000
BEGIN:VALARM
ACTION:DISPLAY
TRIGGER:-PT60M
END:VALARM
END:VEVENT
END:VCALENDAR