BEGIN:VCALENDAR
VERSION:2.0
PRODID:spatie/icalendar-generator
NAME:Themed Lunch Alba Truffle
X-WR-CALNAME:Themed Lunch Alba Truffle
BEGIN:VEVENT
UID:event_1838@jncquoi.com
DTSTAMP:20260422T020013Z
SUMMARY:Themed Lunch Alba Truffle
DESCRIPTION:Indulge in an unforgettable gastronomic experience celebrating 
 the prized Alba truffle.\n\nhttps://www.google.com/maps/search/?api=1&quer
 y=JNcQUOI+JNcQUOI+Club&query_place_id=ChIJbeoKfIIzGQ0R9xAksm9Xpo4\n\n+351 
 210 513 010\n\ninfo@jncquoiclub.com
URL:https://www.jncquoi.com/en/whats-on/private/themed-lunch-alba-truffle/1
 838/
DTSTART:20241017T000000
BEGIN:VALARM
ACTION:DISPLAY
TRIGGER:-PT60M
END:VALARM
END:VEVENT
END:VCALENDAR