BEGIN:VCALENDAR
VERSION:2.0
PRODID:spatie/icalendar-generator
NAME:Sunset Samba with Samba é 1 Só
X-WR-CALNAME:Sunset Samba with Samba é 1 Só
BEGIN:VEVENT
UID:event_1704@jncquoi.com
DTSTAMP:20260422T225554Z
SUMMARY:Sunset Samba with Samba é 1 Só
DESCRIPTION:Celebrate summer and amazings sunsets at your DiscoBar with the
  joy of a  “roda de samba”  that brings the incredible rhythm of Brazi
 l to the club.\n\nhttps://www.google.com/maps/search/?api=1&query=JNcQUOI+
 JNcQUOI+Club&query_place_id=ChIJbeoKfIIzGQ0R9xAksm9Xpo4\n\n+351 210 513 01
 0\n\ninfo@jncquoiclub.com
URL:https://www.jncquoi.com/en/whats-on/private/sunset-samba-with-samba-e-1
 -so/1704/
DTSTART:20240802T190000
BEGIN:VALARM
ACTION:DISPLAY
TRIGGER:-PT60M
END:VALARM
END:VEVENT
END:VCALENDAR