BEGIN:VCALENDAR
VERSION:2.0
PRODID:spatie/icalendar-generator
NAME:DJ Live Act - Gilcasound
X-WR-CALNAME:DJ Live Act - Gilcasound
BEGIN:VEVENT
UID:event_1629@jncquoi.com
DTSTAMP:20260419T143857Z
SUMMARY:DJ Live Act - Gilcasound
DESCRIPTION:Gilcasound   was born with the aim of providing DJ and music se
 rvices to people. Today\, they hold more than 300 annual parties throughou
 t Spain and the rest of the world\, specializing in private events and mus
 ic   festivals.\n\nhttps://www.google.com/maps/search/?api=1&query=JNcQUOI
 +JNcQUOI+Club&query_place_id=ChIJbeoKfIIzGQ0R9xAksm9Xpo4\n\n+351 210 513 0
 10\n\ninfo@jncquoiclub.com
URL:https://www.jncquoi.com/en/whats-on/private/dj-live-act-gilcasound/1629
 /
DTSTART:20241031T230000
BEGIN:VALARM
ACTION:DISPLAY
TRIGGER:-PT60M
END:VALARM
END:VEVENT
END:VCALENDAR