BEGIN:VCALENDAR
VERSION:2.0
PRODID:spatie/icalendar-generator
NAME:Dinner-Concert - Joana Lobo Anta - Quartet
X-WR-CALNAME:Dinner-Concert - Joana Lobo Anta - Quartet
BEGIN:VEVENT
UID:event_1462@jncquoi.com
DTSTAMP:20260422T174404Z
SUMMARY:Dinner-Concert - Joana Lobo Anta - Quartet
DESCRIPTION:Joana Lobo Anta is a  is a talented and versatile Portuguese ar
 tist.    She has been expressing herself since she was three years old\, 
 whether through singing\, djing\, painting\, dancing\, writing\, acting\, 
 or photography.  Since 2008\, she has performed thousands of times over t
 he world\, including her own country of Portugal\, as well as Ibiza\, New 
 York\, Bali\, Austria\, Barcelona\, Luanda\, England\, Morocco\, and Guate
 mala.  Her fearless approach to the female issue almost seems to imply a 
 spiritual...\n\nhttps://www.google.com/maps/search/?api=1&query=JNcQUOI+JN
 cQUOI+Club&query_place_id=ChIJbeoKfIIzGQ0R9xAksm9Xpo4\n\n+351 210 513 010\
 n\ninfo@jncquoiclub.com
URL:https://www.jncquoi.com/en/whats-on/private/dinner-concert-joana-lobo-a
 nta-quartet/1462/
DTSTART:20231222T230000
BEGIN:VALARM
ACTION:DISPLAY
TRIGGER:-PT60M
END:VALARM
END:VEVENT
END:VCALENDAR