BEGIN:VCALENDAR
VERSION:2.0
PRODID:spatie/icalendar-generator
NAME:Bar Manero Takes Over DeliBar @ JNcQUOI Avenida
X-WR-CALNAME:Bar Manero Takes Over DeliBar @ JNcQUOI Avenida
BEGIN:VEVENT
UID:event_1252@jncquoi.com
DTSTAMP:20260424T135336Z
SUMMARY:Bar Manero Takes Over DeliBar @ JNcQUOI Avenida
DESCRIPTION:The iconic Bar Manero Madrid is taking over JNcQUOI Avenida’s
  Deli Bar on the 22 nd  of March! This bar is currently considered the bes
 t tapas restaurant in Spain\, combining high-quality gastronomy and the au
 thenticity of Mediterranean flavors. Enjoy Bar Manero’s setting at the
  Deli Bar with a selection of the best dishes paired with wines from the B
 ar Manero brand\, a Space DJ and two room collaborators who will explain t
 he brand concept to all guests\, from 12pm until midnight. Cap...\n\nhtt
 ps://www.google.com/maps/search/?api=1&query=JNcQUOI+Avenida&query_place_i
 d=ChIJbeoKfIIzGQ0R9xAksm9Xpo4\n\n+351 219 369 900\n\nbook@jncquoiavenida.c
 om
URL:https://www.jncquoi.com/en/whats-on/events/bar-manero-takes-over-deliba
 r-at-jncquoi-avenida/1252/
DTSTART:20230322T120000
DTEND:20230323T000000
BEGIN:VALARM
ACTION:DISPLAY
TRIGGER:-PT60M
END:VALARM
END:VEVENT
END:VCALENDAR