BEGIN:VCALENDAR
VERSION:2.0
PRODID:spatie/icalendar-generator
NAME:Dj Live Act - Dimitri From Paris
X-WR-CALNAME:Dj Live Act - Dimitri From Paris
BEGIN:VEVENT
UID:event_1240@jncquoi.com
DTSTAMP:20260423T040730Z
SUMMARY:Dj Live Act - Dimitri From Paris
DESCRIPTION:Dimitri From Paris - The King of Disco  As the French Ambassad
 or of stylish club sounds\, Dimitri from Paris is everything his nation co
 uld be proud of: a DJ\, producer\, and remixer of the highest standard\, a
 nd a stylish snake-hipped pin-up with French reserve. In a nutshell\, ther
 e are two distinct sides to Dimitri: a undeniable elegant and\, a devoted 
 dance music fanatic...  In February 2005 the French government awarded him
  the very official rank of Knight of the Arts and Letters. Along with...\n
 \nhttps://www.google.com/maps/search/?api=1&query=JNcQUOI+JNcQUOI+Club&que
 ry_place_id=ChIJbeoKfIIzGQ0R9xAksm9Xpo4\n\n+351 210 513 010\n\ninfo@jncquo
 iclub.com
URL:https://www.jncquoi.com/en/whats-on/private/dj-live-act-dimitri-from-pa
 ris/1240/
DTSTART:20230318T000000
BEGIN:VALARM
ACTION:DISPLAY
TRIGGER:-PT60M
END:VALARM
END:VEVENT
END:VCALENDAR