BEGIN:VCALENDAR
VERSION:2.0
PRODID:spatie/icalendar-generator
NAME:O Gaveto takes over JNcQUOI Avenida
X-WR-CALNAME:O Gaveto takes over JNcQUOI Avenida
BEGIN:VEVENT
UID:event_1067@jncquoi.com
DTSTAMP:20260424T012900Z
SUMMARY:O Gaveto takes over JNcQUOI Avenida
DESCRIPTION:Honoring the traditions and heritage of the North\, Lamprey wee
 k is back at JNcQUOI Avenida! The highly regarded restaurant\, O Gaveto i
 s taking over JNcQUOI Avenida to present you with two iconic Lamprey dishe
 s – “Escabeche de Lampreia” and “Lampreia à Bordalesa”! O Gave
 to\, not only is known for its delicious fresh fish and seafood\, but also
  for its memorable lamprey dishes. The secret lies in the careful selecti
 on of the lampreys and the simplicity of their preparation\, enhancing its
  flavor\,...\n\nhttps://www.google.com/maps/search/?api=1&query=JNcQUOI+Av
 enida&query_place_id=ChIJbeoKfIIzGQ0R9xAksm9Xpo4\n\n+351 219 369 900\n\nbo
 ok@jncquoiavenida.com
URL:https://www.jncquoi.com/en/whats-on/events/o-gaveto-takes-over-jncquoi-
 avenida/1067/
DTSTART:20230209T000000
BEGIN:VALARM
ACTION:DISPLAY
TRIGGER:-PT60M
END:VALARM
END:VEVENT
END:VCALENDAR